BEGIN:VCALENDAR
VERSION:2.0
PRODID:-//First Christian Church of Ramona - ECPv6.15.20//NONSGML v1.0//EN
CALSCALE:GREGORIAN
METHOD:PUBLISH
X-WR-CALNAME:First Christian Church of Ramona
X-ORIGINAL-URL:https://fccoframona.org
X-WR-CALDESC:Events for First Christian Church of Ramona
REFRESH-INTERVAL;VALUE=DURATION:PT1H
X-Robots-Tag:noindex
X-PUBLISHED-TTL:PT1H
BEGIN:VTIMEZONE
TZID:UTC
BEGIN:STANDARD
TZOFFSETFROM:+0000
TZOFFSETTO:+0000
TZNAME:UTC
DTSTART:20210101T000000
END:STANDARD
END:VTIMEZONE
BEGIN:VEVENT
DTSTART;TZID=UTC:20240806T100000
DTEND;TZID=UTC:20240806T110000
DTSTAMP:20260423T203703
CREATED:20240805T211224Z
LAST-MODIFIED:20240805T211224Z
UID:1659-1722938400-1722942000@fccoframona.org
SUMMARY:Ladies Bible Study
DESCRIPTION:Here at First Christian Church of Ramona we believe in making the Word of God our foundation for living. So if your a lady wanting to be shaped and formed by His Word and His Grace\, then come and be apart of our Ladies Bible study.
URL:https://fccoframona.org/event/ladies-bible-study-7/
LOCATION:First Christian Church of Ramona\, 1970 Vermont Street\, Ramona\, CA\, 92065\, United States
CATEGORIES:Bible Study
END:VEVENT
BEGIN:VEVENT
DTSTART;TZID=UTC:20240804T100000
DTEND;TZID=UTC:20240804T110000
DTSTAMP:20260423T203703
CREATED:20240805T213255Z
LAST-MODIFIED:20240805T213255Z
UID:1676-1722765600-1722769200@fccoframona.org
SUMMARY:Spiritual Disciplines Series
DESCRIPTION:Part 1 – Silence and Solitude
URL:https://fccoframona.org/event/spiritual-disciplines-series/
LOCATION:First Christian Church of Ramona\, 1970 Vermont Street\, Ramona\, CA\, 92065\, United States
CATEGORIES:Sunday Service
END:VEVENT
BEGIN:VEVENT
DTSTART;TZID=UTC:20230228T090000
DTEND;TZID=UTC:20230228T110000
DTSTAMP:20260423T203703
CREATED:20230123T183739Z
LAST-MODIFIED:20230123T183739Z
UID:435-1677574800-1677582000@fccoframona.org
SUMMARY:Ladies Bible Study
DESCRIPTION:The wondrous ladies of our church get together and study God’s Word and pray for one another. Find a place to be encouraged and share in your faith.
URL:https://fccoframona.org/event/ladies-bible-study-6/
LOCATION:First Christian Church of Ramona\, 1970 Vermont Street\, Ramona\, CA\, 92065\, United States
CATEGORIES:Bible Study
END:VEVENT
BEGIN:VEVENT
DTSTART;TZID=UTC:20230221T090000
DTEND;TZID=UTC:20230221T100000
DTSTAMP:20260423T203703
CREATED:20230123T183700Z
LAST-MODIFIED:20230123T183700Z
UID:433-1676970000-1676973600@fccoframona.org
SUMMARY:Ladies Bible Study
DESCRIPTION:The wondrous ladies of our church get together and study God’s Word and pray for one another. Find a place to be encouraged and share in your faith.
URL:https://fccoframona.org/event/ladies-bible-study-5/
LOCATION:First Christian Church of Ramona\, 1970 Vermont Street\, Ramona\, CA\, 92065\, United States
CATEGORIES:Bible Study
END:VEVENT
BEGIN:VEVENT
DTSTART;TZID=UTC:20230214T090000
DTEND;TZID=UTC:20230214T110000
DTSTAMP:20260423T203703
CREATED:20230123T183615Z
LAST-MODIFIED:20230123T183615Z
UID:431-1676365200-1676372400@fccoframona.org
SUMMARY:Ladies Bible Study
DESCRIPTION:The wondrous ladies of our church get together and study God’s Word and pray for one another. Find a place to be encouraged and share in your faith.
URL:https://fccoframona.org/event/ladies-bible-study-4/
LOCATION:First Christian Church of Ramona\, 1970 Vermont Street\, Ramona\, CA\, 92065\, United States
CATEGORIES:Bible Study
END:VEVENT
BEGIN:VEVENT
DTSTART;TZID=UTC:20230207T090000
DTEND;TZID=UTC:20230207T110000
DTSTAMP:20260423T203703
CREATED:20230123T183518Z
LAST-MODIFIED:20230123T183518Z
UID:429-1675760400-1675767600@fccoframona.org
SUMMARY:Ladies Bible Study
DESCRIPTION:The wondrous ladies of our church get together and study God’s Word and pray for one another. Find a place to be encouraged and share in your faith.
URL:https://fccoframona.org/event/ladies-bible-study-3/
LOCATION:First Christian Church of Ramona\, 1970 Vermont Street\, Ramona\, CA\, 92065\, United States
CATEGORIES:Bible Study
END:VEVENT
BEGIN:VEVENT
DTSTART;TZID=UTC:20230201T180000
DTEND;TZID=UTC:20230201T200000
DTSTAMP:20260423T203703
CREATED:20230123T183947Z
LAST-MODIFIED:20230123T183947Z
UID:439-1675274400-1675281600@fccoframona.org
SUMMARY:Wednesday Night Bible Study
DESCRIPTION:Currently walking through the Gospel of Matthew.
URL:https://fccoframona.org/event/wednesday-night-bible-study-10/
LOCATION:First Christian Church of Ramona\, 1970 Vermont Street\, Ramona\, CA\, 92065\, United States
CATEGORIES:Bible Study
END:VEVENT
BEGIN:VEVENT
DTSTART;TZID=UTC:20230131T090000
DTEND;TZID=UTC:20230131T110000
DTSTAMP:20260423T203703
CREATED:20230123T183407Z
LAST-MODIFIED:20230123T183407Z
UID:427-1675155600-1675162800@fccoframona.org
SUMMARY:Ladies Bible Study
DESCRIPTION:The wondrous ladies of our church get together and study God’s Word and pray for one another. Find a place to be encouraged and share in your faith.
URL:https://fccoframona.org/event/ladies-bible-study-2/
LOCATION:First Christian Church of Ramona\, 1970 Vermont Street\, Ramona\, CA\, 92065\, United States
CATEGORIES:Bible Study
END:VEVENT
BEGIN:VEVENT
DTSTART;TZID=UTC:20230125T180000
DTEND;TZID=UTC:20230125T200000
DTSTAMP:20260423T203703
CREATED:20230123T183855Z
LAST-MODIFIED:20230123T183855Z
UID:437-1674669600-1674676800@fccoframona.org
SUMMARY:Wednesday Night Bible Study
DESCRIPTION:Currently walking through the Gospel of Matthew.
URL:https://fccoframona.org/event/wednesday-night-bible-study-9/
LOCATION:First Christian Church of Ramona\, 1970 Vermont Street\, Ramona\, CA\, 92065\, United States
CATEGORIES:Bible Study
END:VEVENT
BEGIN:VEVENT
DTSTART;TZID=UTC:20230124T090000
DTEND;TZID=UTC:20230124T110000
DTSTAMP:20260423T203703
CREATED:20230123T183253Z
LAST-MODIFIED:20230123T183253Z
UID:425-1674550800-1674558000@fccoframona.org
SUMMARY:Ladies Bible Study
DESCRIPTION:The wondrous ladies of our church get together and study God’s Word and pray for one another. Find a place to be encouraged and share in your faith.
URL:https://fccoframona.org/event/ladies-bible-study/
LOCATION:First Christian Church of Ramona\, 1970 Vermont Street\, Ramona\, CA\, 92065\, United States
CATEGORIES:Bible Study
END:VEVENT
BEGIN:VEVENT
DTSTART;TZID=UTC:20221228T180000
DTEND;TZID=UTC:20221228T193000
DTSTAMP:20260423T203703
CREATED:20221117T182325Z
LAST-MODIFIED:20221117T182325Z
UID:361-1672250400-1672255800@fccoframona.org
SUMMARY:No Bible Study
DESCRIPTION:Will resume in January 2023
URL:https://fccoframona.org/event/no-bible-study-4/
LOCATION:First Christian Church of Ramona\, 1970 Vermont Street\, Ramona\, CA\, 92065\, United States
CATEGORIES:Bible Study
END:VEVENT
BEGIN:VEVENT
DTSTART;TZID=UTC:20221225T100000
DTEND;TZID=UTC:20221225T113000
DTSTAMP:20260423T203703
CREATED:20221117T182813Z
LAST-MODIFIED:20221117T182813Z
UID:365-1671962400-1671967800@fccoframona.org
SUMMARY:Sunday Service (Christmas Day!)
DESCRIPTION:What a time to celebrate the birth of our Savior!! We invite all to come and be apart of this celebration and reflection. Jesus\, the Messiah\, was born for us!! See you there!!
URL:https://fccoframona.org/event/sunday-service-christmas-day/
LOCATION:First Christian Church of Ramona\, 1970 Vermont Street\, Ramona\, CA\, 92065\, United States
CATEGORIES:Sunday Service
END:VEVENT
BEGIN:VEVENT
DTSTART;TZID=UTC:20221224T173000
DTEND;TZID=UTC:20221224T183000
DTSTAMP:20260423T203703
CREATED:20221117T182605Z
LAST-MODIFIED:20221117T182605Z
UID:363-1671903000-1671906600@fccoframona.org
SUMMARY:Christmas Eve Service
DESCRIPTION:We at First Christian Church love telling the story of Christmas. Invite a friend or family for a time reflection and preparation for the arrival of our Savior.
URL:https://fccoframona.org/event/christmas-eve-service/
LOCATION:First Christian Church of Ramona\, 1970 Vermont Street\, Ramona\, CA\, 92065\, United States
CATEGORIES:Fellowship/Event
END:VEVENT
BEGIN:VEVENT
DTSTART;TZID=UTC:20221221T180000
DTEND;TZID=UTC:20221221T193000
DTSTAMP:20260423T203703
CREATED:20221117T182242Z
LAST-MODIFIED:20221117T182242Z
UID:359-1671645600-1671651000@fccoframona.org
SUMMARY:No Bible Study
DESCRIPTION:Will resume in January 2023
URL:https://fccoframona.org/event/no-bible-study-3/
LOCATION:First Christian Church of Ramona\, 1970 Vermont Street\, Ramona\, CA\, 92065\, United States
CATEGORIES:Bible Study
END:VEVENT
BEGIN:VEVENT
DTSTART;TZID=UTC:20221216T180000
DTEND;TZID=UTC:20221216T200000
DTSTAMP:20260423T203703
CREATED:20221117T181058Z
LAST-MODIFIED:20221117T181058Z
UID:351-1671213600-1671220800@fccoframona.org
SUMMARY:Christmas Gift Exchange
DESCRIPTION:You talk about joy and non-stop laughter\, you don’t want to miss out on this years Christmas Gift Exchange!!! Is a fun time passing and grabbing gifts\, as well as sweets and some hot chocolate!! \nBring a gift!!
URL:https://fccoframona.org/event/christmas-gift-exchange/
LOCATION:First Christian Church of Ramona\, 1970 Vermont Street\, Ramona\, CA\, 92065\, United States
CATEGORIES:Fellowship/Event
END:VEVENT
BEGIN:VEVENT
DTSTART;TZID=UTC:20221214T180000
DTEND;TZID=UTC:20221214T193000
DTSTAMP:20260423T203703
CREATED:20221117T181818Z
LAST-MODIFIED:20221117T181818Z
UID:357-1671040800-1671046200@fccoframona.org
SUMMARY:No Bible Study
DESCRIPTION:Will resume in January 2023
URL:https://fccoframona.org/event/no-bible-study-2/
LOCATION:First Christian Church of Ramona\, 1970 Vermont Street\, Ramona\, CA\, 92065\, United States
CATEGORIES:Bible Study
END:VEVENT
BEGIN:VEVENT
DTSTART;TZID=UTC:20221210T110000
DTEND;TZID=UTC:20221210T130000
DTSTAMP:20260423T203703
CREATED:20221117T181550Z
LAST-MODIFIED:20221117T181550Z
UID:353-1670670000-1670677200@fccoframona.org
SUMMARY:Ladies Cookie Exchange
DESCRIPTION:Words cannot describe the amazing array of cookies that our ladies bring to the table. Make your best batch and come by and see what else there is to taste in flavor town!! \nBring your cookies and a smile!!
URL:https://fccoframona.org/event/ladies-cookie-exchange/
LOCATION:First Christian Church of Ramona\, 1970 Vermont Street\, Ramona\, CA\, 92065\, United States
CATEGORIES:Fellowship/Event
END:VEVENT
BEGIN:VEVENT
DTSTART;TZID=UTC:20221207T180000
DTEND;TZID=UTC:20221207T193000
DTSTAMP:20260423T203703
CREATED:20221117T181739Z
LAST-MODIFIED:20221117T181739Z
UID:355-1670436000-1670441400@fccoframona.org
SUMMARY:No Bible Study
DESCRIPTION:Will resume in January 2023
URL:https://fccoframona.org/event/no-bible-study/
LOCATION:First Christian Church of Ramona\, 1970 Vermont Street\, Ramona\, CA\, 92065\, United States
CATEGORIES:Bible Study
END:VEVENT
BEGIN:VEVENT
DTSTART;TZID=UTC:20221204T110000
DTEND;TZID=UTC:20221204T130000
DTSTAMP:20260423T203703
CREATED:20221117T180812Z
LAST-MODIFIED:20221117T180812Z
UID:349-1670151600-1670158800@fccoframona.org
SUMMARY:Christmas Potluck and Fellowship
DESCRIPTION:There is nothing like a family gathering together around the table and sharing in memories and joy. Oh yeah\, and some amazing food is involved. Come festive and full of holiday cheer!! \nDon’t forget to bring a plate!!
URL:https://fccoframona.org/event/christmas-potluck-and-fellowship/
LOCATION:First Christian Church of Ramona\, 1970 Vermont Street\, Ramona\, CA\, 92065\, United States
CATEGORIES:Fellowship/Event
END:VEVENT
BEGIN:VEVENT
DTSTART;TZID=UTC:20221203T090000
DTEND;TZID=UTC:20221203T110000
DTSTAMP:20260423T203703
CREATED:20221117T180545Z
LAST-MODIFIED:20221117T180545Z
UID:347-1670058000-1670065200@fccoframona.org
SUMMARY:Christmas Decor Day
DESCRIPTION:We are super excited to get into the Christmas Season. We invite all to come and help is decorate and share in a season of joy!
URL:https://fccoframona.org/event/christmas-decor-day/
LOCATION:First Christian Church of Ramona\, 1970 Vermont Street\, Ramona\, CA\, 92065\, United States
CATEGORIES:Fellowship/Event
END:VEVENT
BEGIN:VEVENT
DTSTART;TZID=UTC:20221130T180000
DTEND;TZID=UTC:20221130T193000
DTSTAMP:20260423T203703
CREATED:20221117T180347Z
LAST-MODIFIED:20221117T180347Z
UID:345-1669831200-1669836600@fccoframona.org
SUMMARY:Wednesday Night Bible Study
DESCRIPTION:Current Series: Jeremiah the Weeping Prophet – A life of true repentance. \nHosting with lite refreshments and snacks.
URL:https://fccoframona.org/event/wednesday-night-bible-study-8/
LOCATION:First Christian Church of Ramona\, 1970 Vermont Street\, Ramona\, CA\, 92065\, United States
CATEGORIES:Bible Study
END:VEVENT
BEGIN:VEVENT
DTSTART;TZID=UTC:20221127T100000
DTEND;TZID=UTC:20221127T113000
DTSTAMP:20260423T203703
CREATED:20221117T175835Z
LAST-MODIFIED:20221117T175835Z
UID:341-1669543200-1669548600@fccoframona.org
SUMMARY:Sunday Service
DESCRIPTION:You are personally invited to come worship with us\, in person or online. All are welcome!
URL:https://fccoframona.org/event/sunday-service-11/
LOCATION:First Christian Church of Ramona\, 1970 Vermont Street\, Ramona\, CA\, 92065\, United States
CATEGORIES:Sunday Service
END:VEVENT
BEGIN:VEVENT
DTSTART;TZID=UTC:20221123T173000
DTEND;TZID=UTC:20221123T183000
DTSTAMP:20260423T203703
CREATED:20221117T180101Z
LAST-MODIFIED:20221117T180101Z
UID:343-1669224600-1669228200@fccoframona.org
SUMMARY:Thanksgiving Eve Service
DESCRIPTION:Join us as we take a moment to thank God for all His blessings. Bring a friend and a thankful heart.
URL:https://fccoframona.org/event/thanksgiving-eve-service/
LOCATION:First Christian Church of Ramona\, 1970 Vermont Street\, Ramona\, CA\, 92065\, United States
CATEGORIES:Fellowship/Event
END:VEVENT
BEGIN:VEVENT
DTSTART;TZID=UTC:20221120T100000
DTEND;TZID=UTC:20221120T113000
DTSTAMP:20260423T203703
CREATED:20221117T175746Z
LAST-MODIFIED:20221117T175746Z
UID:339-1668938400-1668943800@fccoframona.org
SUMMARY:Sunday Service
DESCRIPTION:You are personally invited to come worship with us\, in person or online. All are welcome!
URL:https://fccoframona.org/event/sunday-service-10/
LOCATION:First Christian Church of Ramona\, 1970 Vermont Street\, Ramona\, CA\, 92065\, United States
CATEGORIES:Sunday Service
END:VEVENT
BEGIN:VEVENT
DTSTART;TZID=UTC:20221113T100000
DTEND;TZID=UTC:20221113T113000
DTSTAMP:20260423T203703
CREATED:20221117T175650Z
LAST-MODIFIED:20221117T175650Z
UID:337-1668333600-1668339000@fccoframona.org
SUMMARY:Sunday Service
DESCRIPTION:You are personally invited to come worship with us\, in person or online. All are welcome!
URL:https://fccoframona.org/event/sunday-service-9/
LOCATION:First Christian Church of Ramona\, 1970 Vermont Street\, Ramona\, CA\, 92065\, United States
CATEGORIES:Sunday Service
END:VEVENT
BEGIN:VEVENT
DTSTART;TZID=UTC:20221106T100000
DTEND;TZID=UTC:20221106T113000
DTSTAMP:20260423T203703
CREATED:20221117T175548Z
LAST-MODIFIED:20221117T175548Z
UID:335-1667728800-1667734200@fccoframona.org
SUMMARY:Sunday Service
DESCRIPTION:You are personally invited to come worship with us\, in person or online. All are welcome!
URL:https://fccoframona.org/event/sunday-service-8/
LOCATION:First Christian Church of Ramona\, 1970 Vermont Street\, Ramona\, CA\, 92065\, United States
CATEGORIES:Sunday Service
END:VEVENT
BEGIN:VEVENT
DTSTART;TZID=UTC:20221030T100000
DTEND;TZID=UTC:20221030T113000
DTSTAMP:20260423T203703
CREATED:20221003T162507Z
LAST-MODIFIED:20221003T162507Z
UID:298-1667124000-1667129400@fccoframona.org
SUMMARY:Sunday Service
DESCRIPTION:You are personally invited to come worship with us\, in person or online. All are welcome!
URL:https://fccoframona.org/event/sunday-service-7/
LOCATION:First Christian Church of Ramona\, 1970 Vermont Street\, Ramona\, CA\, 92065\, United States
CATEGORIES:Sunday Service
END:VEVENT
BEGIN:VEVENT
DTSTART;TZID=UTC:20221026T180000
DTEND;TZID=UTC:20221026T200000
DTSTAMP:20260423T203703
CREATED:20221003T163003Z
LAST-MODIFIED:20221003T163003Z
UID:307-1666807200-1666814400@fccoframona.org
SUMMARY:Wednesday Night Bible Study
DESCRIPTION:All are welcome and invited to hang out with us as we travel through God’s Word. Come hungry and expecting to hear from God. \nWhat to expect: \n6:00pm – Dinner \n6:30pm – Worship \n6:40-7:30pm – Study \n7:30-8:00pm – Prayer
URL:https://fccoframona.org/event/wednesday-night-bible-study-7/
LOCATION:First Christian Church of Ramona\, 1970 Vermont Street\, Ramona\, CA\, 92065\, United States
CATEGORIES:Bible Study
END:VEVENT
BEGIN:VEVENT
DTSTART;TZID=UTC:20221023T100000
DTEND;TZID=UTC:20221023T113000
DTSTAMP:20260423T203703
CREATED:20221003T162315Z
LAST-MODIFIED:20221003T162315Z
UID:296-1666519200-1666524600@fccoframona.org
SUMMARY:Sunday Service
DESCRIPTION:You are personally invited to come worship with us\, in person or online. All are welcome!
URL:https://fccoframona.org/event/sunday-service-6/
LOCATION:First Christian Church of Ramona\, 1970 Vermont Street\, Ramona\, CA\, 92065\, United States
CATEGORIES:Sunday Service
END:VEVENT
BEGIN:VEVENT
DTSTART;TZID=UTC:20221022T080000
DTEND;TZID=UTC:20221022T120000
DTSTAMP:20260423T203703
CREATED:20220908T222010Z
LAST-MODIFIED:20220917T201609Z
UID:243-1666425600-1666440000@fccoframona.org
SUMMARY:All Church Work Day
DESCRIPTION:Like any place we call home\, we want to give it a little spring cleaning and freshen the place up. Come join us and help us refresh the look of our church. Everyone is welcome!
URL:https://fccoframona.org/event/all-church-work-day/
LOCATION:First Christian Church of Ramona\, 1970 Vermont Street\, Ramona\, CA\, 92065\, United States
END:VEVENT
END:VCALENDAR