BEGIN:VCALENDAR
VERSION:2.0
PRODID:-//First Christian Church of Ramona - ECPv6.15.20//NONSGML v1.0//EN
CALSCALE:GREGORIAN
METHOD:PUBLISH
X-WR-CALNAME:First Christian Church of Ramona
X-ORIGINAL-URL:https://fccoframona.org
X-WR-CALDESC:Events for First Christian Church of Ramona
REFRESH-INTERVAL;VALUE=DURATION:PT1H
X-Robots-Tag:noindex
X-PUBLISHED-TTL:PT1H
BEGIN:VTIMEZONE
TZID:UTC
BEGIN:STANDARD
TZOFFSETFROM:+0000
TZOFFSETTO:+0000
TZNAME:UTC
DTSTART:20230101T000000
END:STANDARD
END:VTIMEZONE
BEGIN:VEVENT
DTSTART;TZID=UTC:20241030T180000
DTEND;TZID=UTC:20241030T190000
DTSTAMP:20260423T160638
CREATED:20240930T190850Z
LAST-MODIFIED:20240930T190850Z
UID:2007-1730311200-1730314800@fccoframona.org
SUMMARY:With God Life
DESCRIPTION:We at FCCR want to create apprentices for Jesus. We strive to create an environment where apprentices can practice what they learn. Preparing themselves to use these teaching in daily living and practice.
URL:https://fccoframona.org/event/with-god-life-12/
LOCATION:First Christian Church of Ramona\, 1970 Vermont Street\, Ramona\, CA\, 92065\, United States
CATEGORIES:With God Life
END:VEVENT
BEGIN:VEVENT
DTSTART;TZID=UTC:20241029T100000
DTEND;TZID=UTC:20241029T110000
DTSTAMP:20260423T160638
CREATED:20240930T190313Z
LAST-MODIFIED:20240930T190313Z
UID:1997-1730196000-1730199600@fccoframona.org
SUMMARY:Ladies Bible Study
DESCRIPTION:Here at First Christian Church of Ramona we believe in making the Word of God our foundation for living. So if your a lady wanting to be shaped and formed by His Word and His Grace\, then come and be apart of our Ladies Bible study.
URL:https://fccoframona.org/event/ladies-bible-study-18/
LOCATION:First Christian Church of Ramona\, 1970 Vermont Street\, Ramona\, CA\, 92065\, United States
CATEGORIES:Bible Study,Ladies Bible Study
END:VEVENT
BEGIN:VEVENT
DTSTART;TZID=UTC:20241027T100000
DTEND;TZID=UTC:20241027T110000
DTSTAMP:20260423T160638
CREATED:20240930T192033Z
LAST-MODIFIED:20240930T192033Z
UID:2017-1730023200-1730026800@fccoframona.org
SUMMARY:Pauline Theology
DESCRIPTION:New Series: Taking a slow look at the Letters of Paul to his son in the Faith Timothy.
URL:https://fccoframona.org/event/pauline-theology-7/
LOCATION:First Christian Church of Ramona\, 1970 Vermont Street\, Ramona\, CA\, 92065\, United States
CATEGORIES:Sunday Service
END:VEVENT
BEGIN:VEVENT
DTSTART;TZID=UTC:20241023T180000
DTEND;TZID=UTC:20241023T190000
DTSTAMP:20260423T160638
CREATED:20240930T190806Z
LAST-MODIFIED:20240930T190806Z
UID:2005-1729706400-1729710000@fccoframona.org
SUMMARY:With God Life
DESCRIPTION:We at FCCR want to create apprentices for Jesus. We strive to create an environment where apprentices can practice what they learn. Preparing themselves to use these teaching in daily living and practice.
URL:https://fccoframona.org/event/with-god-life-11/
LOCATION:First Christian Church of Ramona\, 1970 Vermont Street\, Ramona\, CA\, 92065\, United States
CATEGORIES:With God Life
END:VEVENT
BEGIN:VEVENT
DTSTART;TZID=UTC:20241022T100000
DTEND;TZID=UTC:20241022T110000
DTSTAMP:20260423T160638
CREATED:20240930T185115Z
LAST-MODIFIED:20240930T185115Z
UID:1995-1729591200-1729594800@fccoframona.org
SUMMARY:Ladies Bible Study
DESCRIPTION:Here at First Christian Church of Ramona we believe in making the Word of God our foundation for living. So if your a lady wanting to be shaped and formed by His Word and His Grace\, then come and be apart of our Ladies Bible study.
URL:https://fccoframona.org/event/ladies-bible-study-17/
LOCATION:First Christian Church of Ramona\, 1970 Vermont Street\, Ramona\, CA\, 92065\, United States
CATEGORIES:Bible Study,Ladies Bible Study
END:VEVENT
BEGIN:VEVENT
DTSTART;TZID=UTC:20241020T100000
DTEND;TZID=UTC:20241020T110000
DTSTAMP:20260423T160638
CREATED:20240930T191952Z
LAST-MODIFIED:20240930T191952Z
UID:2015-1729418400-1729422000@fccoframona.org
SUMMARY:Pauline Theology
DESCRIPTION:New Series: Taking a slow look at the Letters of Paul to his son in the Faith Timothy.
URL:https://fccoframona.org/event/pauline-theology-6/
LOCATION:First Christian Church of Ramona\, 1970 Vermont Street\, Ramona\, CA\, 92065\, United States
CATEGORIES:Sunday Service
END:VEVENT
BEGIN:VEVENT
DTSTART;TZID=UTC:20241016T180000
DTEND;TZID=UTC:20241016T190000
DTSTAMP:20260423T160638
CREATED:20240930T190703Z
LAST-MODIFIED:20240930T190703Z
UID:2003-1729101600-1729105200@fccoframona.org
SUMMARY:With God Life
DESCRIPTION:We at FCCR want to create apprentices for Jesus. We strive to create an environment where apprentices can practice what they learn. Preparing themselves to use these teaching in daily living and practice.
URL:https://fccoframona.org/event/with-god-life-10/
LOCATION:First Christian Church of Ramona\, 1970 Vermont Street\, Ramona\, CA\, 92065\, United States
CATEGORIES:With God Life
END:VEVENT
BEGIN:VEVENT
DTSTART;TZID=UTC:20241015T100000
DTEND;TZID=UTC:20241015T110000
DTSTAMP:20260423T160638
CREATED:20240930T185021Z
LAST-MODIFIED:20240930T185021Z
UID:1993-1728986400-1728990000@fccoframona.org
SUMMARY:Ladies Bible Study
DESCRIPTION:Here at First Christian Church of Ramona we believe in making the Word of God our foundation for living. So if your a lady wanting to be shaped and formed by His Word and His Grace\, then come and be apart of our Ladies Bible study.
URL:https://fccoframona.org/event/ladies-bible-study-16/
LOCATION:First Christian Church of Ramona\, 1970 Vermont Street\, Ramona\, CA\, 92065\, United States
CATEGORIES:Bible Study,Ladies Bible Study
END:VEVENT
BEGIN:VEVENT
DTSTART;TZID=UTC:20241013T100000
DTEND;TZID=UTC:20241013T110000
DTSTAMP:20260423T160638
CREATED:20240930T191842Z
LAST-MODIFIED:20240930T191842Z
UID:2013-1728813600-1728817200@fccoframona.org
SUMMARY:Pauline Theology
DESCRIPTION:New Series: Taking a slow look at the Letters of Paul to his son in the Faith Timothy.
URL:https://fccoframona.org/event/pauline-theology-5/
LOCATION:First Christian Church of Ramona\, 1970 Vermont Street\, Ramona\, CA\, 92065\, United States
CATEGORIES:Sunday Service
END:VEVENT
BEGIN:VEVENT
DTSTART;TZID=UTC:20241009T180000
DTEND;TZID=UTC:20241009T190000
DTSTAMP:20260423T160638
CREATED:20240930T190627Z
LAST-MODIFIED:20240930T190627Z
UID:2001-1728496800-1728500400@fccoframona.org
SUMMARY:With God Life
DESCRIPTION:We at FCCR want to create apprentices for Jesus. We strive to create an environment where apprentices can practice what they learn. Preparing themselves to use these teaching in daily living and practice.
URL:https://fccoframona.org/event/with-god-life-9/
LOCATION:First Christian Church of Ramona\, 1970 Vermont Street\, Ramona\, CA\, 92065\, United States
CATEGORIES:With God Life
END:VEVENT
BEGIN:VEVENT
DTSTART;TZID=UTC:20241008T100000
DTEND;TZID=UTC:20241008T110000
DTSTAMP:20260423T160638
CREATED:20240930T184937Z
LAST-MODIFIED:20240930T184937Z
UID:1991-1728381600-1728385200@fccoframona.org
SUMMARY:Ladies Bible Study
DESCRIPTION:Here at First Christian Church of Ramona we believe in making the Word of God our foundation for living. So if your a lady wanting to be shaped and formed by His Word and His Grace\, then come and be apart of our Ladies Bible study.
URL:https://fccoframona.org/event/ladies-bible-study-15/
LOCATION:First Christian Church of Ramona\, 1970 Vermont Street\, Ramona\, CA\, 92065\, United States
CATEGORIES:Bible Study,Ladies Bible Study
END:VEVENT
BEGIN:VEVENT
DTSTART;TZID=UTC:20241006T100000
DTEND;TZID=UTC:20241006T110000
DTSTAMP:20260423T160638
CREATED:20240930T191803Z
LAST-MODIFIED:20240930T191803Z
UID:2011-1728208800-1728212400@fccoframona.org
SUMMARY:Pauline Theology
DESCRIPTION:New Series: Taking a slow look at the Letters of Paul to his son in the Faith Timothy.
URL:https://fccoframona.org/event/pauline-theology-4/
LOCATION:First Christian Church of Ramona\, 1970 Vermont Street\, Ramona\, CA\, 92065\, United States
CATEGORIES:Sunday Service
END:VEVENT
BEGIN:VEVENT
DTSTART;TZID=UTC:20241003T070000
DTEND;TZID=UTC:20241003T083000
DTSTAMP:20260423T160638
CREATED:20240930T191644Z
LAST-MODIFIED:20240930T191644Z
UID:2009-1727938800-1727944200@fccoframona.org
SUMMARY:FCCR Men's Group
DESCRIPTION:Want in on the great food and amazing conversation? Then come join the group! We meet every first Thursday of the month at the Kountry Kitchen in Ramona\, CA. at 7:00AM. Be hungry and read up!! \nThis Month we look at 2 Samuel 3
URL:https://fccoframona.org/event/fccr-mens-group/
LOCATION:Offsite\, 30270 State Highway 78\, Santa Ysabel\, CA\, 92070\, United States
CATEGORIES:Men's Group
END:VEVENT
BEGIN:VEVENT
DTSTART;TZID=UTC:20241002T180000
DTEND;TZID=UTC:20241002T190000
DTSTAMP:20260423T160638
CREATED:20240930T190544Z
LAST-MODIFIED:20240930T190544Z
UID:1999-1727892000-1727895600@fccoframona.org
SUMMARY:With God Life
DESCRIPTION:We at FCCR want to create apprentices for Jesus. We strive to create an environment where apprentices can practice what they learn. Preparing themselves to use these teaching in daily living and practice.
URL:https://fccoframona.org/event/with-god-life-8/
LOCATION:First Christian Church of Ramona\, 1970 Vermont Street\, Ramona\, CA\, 92065\, United States
CATEGORIES:With God Life
END:VEVENT
BEGIN:VEVENT
DTSTART;TZID=UTC:20241001T100000
DTEND;TZID=UTC:20241001T110000
DTSTAMP:20260423T160638
CREATED:20240930T184849Z
LAST-MODIFIED:20240930T184849Z
UID:1989-1727776800-1727780400@fccoframona.org
SUMMARY:Ladies Bible Study
DESCRIPTION:Here at First Christian Church of Ramona we believe in making the Word of God our foundation for living. So if your a lady wanting to be shaped and formed by His Word and His Grace\, then come and be apart of our Ladies Bible study.
URL:https://fccoframona.org/event/ladies-bible-study-14/
LOCATION:First Christian Church of Ramona\, 1970 Vermont Street\, Ramona\, CA\, 92065\, United States
CATEGORIES:Bible Study,Ladies Bible Study
END:VEVENT
BEGIN:VEVENT
DTSTART;TZID=UTC:20240929T100000
DTEND;TZID=UTC:20240929T110000
DTSTAMP:20260423T160638
CREATED:20240909T200349Z
LAST-MODIFIED:20240909T200349Z
UID:1858-1727604000-1727607600@fccoframona.org
SUMMARY:Pauline Theology
DESCRIPTION:New Series: Taking a slow look at the Letters of Paul to his son in the Faith Timothy.
URL:https://fccoframona.org/event/pauline-theology-3/
LOCATION:First Christian Church of Ramona\, 1970 Vermont Street\, Ramona\, CA\, 92065\, United States
CATEGORIES:Sunday Service
END:VEVENT
BEGIN:VEVENT
DTSTART;TZID=UTC:20240925T180000
DTEND;TZID=UTC:20240925T190000
DTSTAMP:20260423T160638
CREATED:20240909T195414Z
LAST-MODIFIED:20240909T195414Z
UID:1852-1727287200-1727290800@fccoframona.org
SUMMARY:With God Life
DESCRIPTION:We at FCCR want to create apprentices for Jesus. We strive to create an environment where apprentices can practice what they learn. Preparing themselves to use these teaching in daily living and practice.
URL:https://fccoframona.org/event/with-god-life-7/
LOCATION:First Christian Church of Ramona\, 1970 Vermont Street\, Ramona\, CA\, 92065\, United States
CATEGORIES:With God Life
END:VEVENT
BEGIN:VEVENT
DTSTART;TZID=UTC:20240924T100000
DTEND;TZID=UTC:20240924T110000
DTSTAMP:20260423T160638
CREATED:20240909T194843Z
LAST-MODIFIED:20240909T195246Z
UID:1846-1727172000-1727175600@fccoframona.org
SUMMARY:Ladies Bible Study
DESCRIPTION:Here at First Christian Church of Ramona we believe in making the Word of God our foundation for living. So if your a lady wanting to be shaped and formed by His Word and His Grace\, then come and be apart of our Ladies Bible study.
URL:https://fccoframona.org/event/ladies-bible-study-13/
LOCATION:First Christian Church of Ramona\, 1970 Vermont Street\, Ramona\, CA\, 92065\, United States
CATEGORIES:Bible Study,Ladies Bible Study
END:VEVENT
BEGIN:VEVENT
DTSTART;TZID=UTC:20240922T100000
DTEND;TZID=UTC:20240922T110000
DTSTAMP:20260423T160638
CREATED:20240909T200312Z
LAST-MODIFIED:20240909T200312Z
UID:1856-1726999200-1727002800@fccoframona.org
SUMMARY:Pauline Theology
DESCRIPTION:New Series: Taking a slow look at the Letters of Paul to his son in the Faith Timothy.
URL:https://fccoframona.org/event/pauline-theology-2/
LOCATION:First Christian Church of Ramona\, 1970 Vermont Street\, Ramona\, CA\, 92065\, United States
CATEGORIES:Sunday Service
END:VEVENT
BEGIN:VEVENT
DTSTART;TZID=UTC:20240918T180000
DTEND;TZID=UTC:20240918T190000
DTSTAMP:20260423T160638
CREATED:20240909T195338Z
LAST-MODIFIED:20240909T195338Z
UID:1850-1726682400-1726686000@fccoframona.org
SUMMARY:With God Life
DESCRIPTION:We at FCCR want to create apprentices for Jesus. We strive to create an environment where apprentices can practice what they learn. Preparing themselves to use these teaching in daily living and practice.
URL:https://fccoframona.org/event/with-god-life-6/
LOCATION:First Christian Church of Ramona\, 1970 Vermont Street\, Ramona\, CA\, 92065\, United States
CATEGORIES:With God Life
END:VEVENT
BEGIN:VEVENT
DTSTART;TZID=UTC:20240917T100000
DTEND;TZID=UTC:20240917T110000
DTSTAMP:20260423T160638
CREATED:20240909T194755Z
LAST-MODIFIED:20240909T195231Z
UID:1844-1726567200-1726570800@fccoframona.org
SUMMARY:Ladies Bible Study
DESCRIPTION:Here at First Christian Church of Ramona we believe in making the Word of God our foundation for living. So if your a lady wanting to be shaped and formed by His Word and His Grace\, then come and be apart of our Ladies Bible study.
URL:https://fccoframona.org/event/ladies-bible-study-12/
LOCATION:First Christian Church of Ramona\, 1970 Vermont Street\, Ramona\, CA\, 92065\, United States
CATEGORIES:Bible Study,Ladies Bible Study
END:VEVENT
BEGIN:VEVENT
DTSTART;TZID=UTC:20240915T100000
DTEND;TZID=UTC:20240915T110000
DTSTAMP:20260423T160638
CREATED:20240909T200213Z
LAST-MODIFIED:20240909T200213Z
UID:1854-1726394400-1726398000@fccoframona.org
SUMMARY:Pauline Theology
DESCRIPTION:New Series: Taking a slow look at the Letters of Paul to his son in the Faith Timothy.
URL:https://fccoframona.org/event/pauline-theology/
LOCATION:First Christian Church of Ramona\, 1970 Vermont Street\, Ramona\, CA\, 92065\, United States
CATEGORIES:Sunday Service
END:VEVENT
BEGIN:VEVENT
DTSTART;TZID=UTC:20240911T180000
DTEND;TZID=UTC:20240911T190000
DTSTAMP:20260423T160638
CREATED:20240909T195154Z
LAST-MODIFIED:20240909T195154Z
UID:1848-1726077600-1726081200@fccoframona.org
SUMMARY:With God Life
DESCRIPTION:We at FCCR want to create apprentices for Jesus. We strive to create an environment where apprentices can practice what they learn. Preparing themselves to use these teaching in daily living and practice.
URL:https://fccoframona.org/event/with-god-life-5/
LOCATION:First Christian Church of Ramona\, 1970 Vermont Street\, Ramona\, CA\, 92065\, United States
CATEGORIES:With God Life
END:VEVENT
BEGIN:VEVENT
DTSTART;TZID=UTC:20240910T100000
DTEND;TZID=UTC:20240910T110000
DTSTAMP:20260423T160638
CREATED:20240909T194703Z
LAST-MODIFIED:20240909T195218Z
UID:1842-1725962400-1725966000@fccoframona.org
SUMMARY:Ladies Bible Study
DESCRIPTION:Here at First Christian Church of Ramona we believe in making the Word of God our foundation for living. So if your a lady wanting to be shaped and formed by His Word and His Grace\, then come and be apart of our Ladies Bible study.
URL:https://fccoframona.org/event/ladies-bible-study-11/
LOCATION:First Christian Church of Ramona\, 1970 Vermont Street\, Ramona\, CA\, 92065\, United States
CATEGORIES:Bible Study,Ladies Bible Study
END:VEVENT
BEGIN:VEVENT
DTSTART;TZID=UTC:20240828T180000
DTEND;TZID=UTC:20240828T190000
DTSTAMP:20260423T160638
CREATED:20240805T212951Z
LAST-MODIFIED:20240805T213030Z
UID:1674-1724868000-1724871600@fccoframona.org
SUMMARY:With God Life
DESCRIPTION:We at FCCR want to create apprentices for Jesus. We strive to create an environment where apprentices can practice what they learn. Preparing themselves to use these teaching in daily living and practice.
URL:https://fccoframona.org/event/with-god-life-4/
LOCATION:First Christian Church of Ramona\, 1970 Vermont Street\, Ramona\, CA\, 92065\, United States
CATEGORIES:Bible Study,Fellowship/Event,With God Life
END:VEVENT
BEGIN:VEVENT
DTSTART;TZID=UTC:20240827T100000
DTEND;TZID=UTC:20240827T110000
DTSTAMP:20260423T160638
CREATED:20240805T212743Z
LAST-MODIFIED:20240805T212743Z
UID:1670-1724752800-1724756400@fccoframona.org
SUMMARY:Ladies Bible Study
DESCRIPTION:Here at First Christian Church of Ramona we believe in making the Word of God our foundation for living. So if your a lady wanting to be shaped and formed by His Word and His Grace\, then come and be apart of our Ladies Bible study.
URL:https://fccoframona.org/event/ladies-bible-study-10/
LOCATION:First Christian Church of Ramona\, 1970 Vermont Street\, Ramona\, CA\, 92065\, United States
CATEGORIES:Bible Study
END:VEVENT
BEGIN:VEVENT
DTSTART;TZID=UTC:20240825T110000
DTEND;TZID=UTC:20240825T140000
DTSTAMP:20260423T160638
CREATED:20240805T210145Z
LAST-MODIFIED:20240805T211005Z
UID:1657-1724583600-1724594400@fccoframona.org
SUMMARY:All Church BBQ (Hosted by FCCR Men)
DESCRIPTION:We are having a BBQ right after service! And the Men are hosting the whole thing!! Come all and come hungry!! \n 
URL:https://fccoframona.org/event/all-church-bbq-hosted-by-fccr-men/
LOCATION:First Christian Church of Ramona\, 1970 Vermont Street\, Ramona\, CA\, 92065\, United States
CATEGORIES:Fellowship/Event
END:VEVENT
BEGIN:VEVENT
DTSTART;TZID=UTC:20240825T100000
DTEND;TZID=UTC:20240825T110000
DTSTAMP:20260423T160638
CREATED:20240805T215141Z
LAST-MODIFIED:20240805T215141Z
UID:1682-1724580000-1724583600@fccoframona.org
SUMMARY:Spiritual Disciplines Series
DESCRIPTION:Part 4
URL:https://fccoframona.org/event/spiritual-disciplines-series-4/
LOCATION:First Christian Church of Ramona\, 1970 Vermont Street\, Ramona\, CA\, 92065\, United States
CATEGORIES:Sunday Service
END:VEVENT
BEGIN:VEVENT
DTSTART;TZID=UTC:20240821T180000
DTEND;TZID=UTC:20240821T190000
DTSTAMP:20260423T160638
CREATED:20240805T212854Z
LAST-MODIFIED:20240805T212854Z
UID:1672-1724263200-1724266800@fccoframona.org
SUMMARY:With God Life
DESCRIPTION:We at FCCR want to create apprentices for Jesus. We strive to create an environment where apprentices can practice what they learn. Preparing themselves to use these teaching in daily living and practice.
URL:https://fccoframona.org/event/with-god-life-3/
LOCATION:First Christian Church of Ramona\, 1970 Vermont Street\, Ramona\, CA\, 92065\, United States
CATEGORIES:Bible Study,Fellowship/Event
END:VEVENT
BEGIN:VEVENT
DTSTART;TZID=UTC:20240820T100000
DTEND;TZID=UTC:20240820T110000
DTSTAMP:20260423T160638
CREATED:20240805T212705Z
LAST-MODIFIED:20240805T212705Z
UID:1668-1724148000-1724151600@fccoframona.org
SUMMARY:Ladies Bible Study
DESCRIPTION:Here at First Christian Church of Ramona we believe in making the Word of God our foundation for living. So if your a lady wanting to be shaped and formed by His Word and His Grace\, then come and be apart of our Ladies Bible study.
URL:https://fccoframona.org/event/ladies-bible-study-9/
LOCATION:First Christian Church of Ramona\, 1970 Vermont Street\, Ramona\, CA\, 92065\, United States
CATEGORIES:Bible Study
END:VEVENT
END:VCALENDAR