BEGIN:VCALENDAR
VERSION:2.0
PRODID:-//First Christian Church of Ramona - ECPv6.15.20//NONSGML v1.0//EN
CALSCALE:GREGORIAN
METHOD:PUBLISH
X-WR-CALNAME:First Christian Church of Ramona
X-ORIGINAL-URL:https://fccoframona.org
X-WR-CALDESC:Events for First Christian Church of Ramona
REFRESH-INTERVAL;VALUE=DURATION:PT1H
X-Robots-Tag:noindex
X-PUBLISHED-TTL:PT1H
BEGIN:VTIMEZONE
TZID:UTC
BEGIN:STANDARD
TZOFFSETFROM:+0000
TZOFFSETTO:+0000
TZNAME:UTC
DTSTART:20210101T000000
END:STANDARD
END:VTIMEZONE
BEGIN:VEVENT
DTSTART;TZID=UTC:20220921T180000
DTEND;TZID=UTC:20220921T200000
DTSTAMP:20260423T233736
CREATED:20220913T185200Z
LAST-MODIFIED:20220913T185200Z
UID:274-1663783200-1663790400@fccoframona.org
SUMMARY:Wednesday Night Bible Study
DESCRIPTION:All are welcome and invited to hang out with us as we travel through God’s Word. Come hungry and expecting to hear from God. \nWhat to expect: \n6:00pm – Dinner \n6:30pm – Worship \n6:40-7:30pm – Study \n7:30-8:00pm – Prayer
URL:https://fccoframona.org/event/wednesday-night-bible-study-2/
LOCATION:First Christian Church of Ramona\, 1970 Vermont Street\, Ramona\, CA\, 92065\, United States
CATEGORIES:Bible Study
END:VEVENT
BEGIN:VEVENT
DTSTART;TZID=UTC:20220920T100000
DTEND;TZID=UTC:20220920T113000
DTSTAMP:20260423T233736
CREATED:20220913T184648Z
LAST-MODIFIED:20220913T184648Z
UID:268-1663668000-1663673400@fccoframona.org
SUMMARY:Women's Bible Study
DESCRIPTION:Calling all ladies to come and join us as we journey through a study of God’s Word. Currently reading “The Heart of a Woman Who Prays”
URL:https://fccoframona.org/event/womens-bible-study/
LOCATION:First Christian Church of Ramona\, 1970 Vermont Street\, Ramona\, CA\, 92065\, United States
CATEGORIES:Bible Study
END:VEVENT
BEGIN:VEVENT
DTSTART;TZID=UTC:20220914T180000
DTEND;TZID=UTC:20220914T200000
DTSTAMP:20260423T233736
CREATED:20220913T185100Z
LAST-MODIFIED:20220913T185100Z
UID:272-1663178400-1663185600@fccoframona.org
SUMMARY:Wednesday Night Bible Study
DESCRIPTION:All are welcome and invited to hang out with us as we travel through God’s Word. Come hungry and expecting to hear from God. \nWhat to expect: \n6:00pm – Dinner \n6:30pm – Worship \n6:40-7:30pm – Study \n7:30-8:00pm – Prayer
URL:https://fccoframona.org/event/wednesday-night-bible-study/
LOCATION:First Christian Church of Ramona\, 1970 Vermont Street\, Ramona\, CA\, 92065\, United States
CATEGORIES:Bible Study
END:VEVENT
END:VCALENDAR